BEGIN:VCALENDAR
VERSION:2.0
PRODID:-//wp-events-plugin.com//7.2.3.1//EN
TZID:Europe/Berlin
X-WR-TIMEZONE:Europe/Berlin
BEGIN:VEVENT
UID:40@flipchart-coach.de
DTSTART;TZID=Europe/Berlin:20240607T090000
DTEND;TZID=Europe/Berlin:20240607T173000
DTSTAMP:20230725T111957Z
URL:https://www.flipchart-coach.de/veranstaltungen/kreativ-praesentieren-1
 0/
SUMMARY:Kreativ präsentieren
DESCRIPTION:Mit originellen Materialien und Ideen gewinnen Ihre Präsentati
 onen an Professionalität. Wir verlassen wir das Papierformat und zeigen\,
  wie Informationen handgezeichnet auf Leichtschaumplatten\, Pappkartons od
 er in digitalen Medien präsentiert werden können.\n\nDafür gibt es Mate
 rial- und Handlingtipps\, Schritt für Schritt Anleitungen und viele Präs
 entationsbeispiele.
CATEGORIES:Kreativ präsentieren
LOCATION:Heidelberg - Business Development Center\, Carl-Friedrich-Gauß-Ri
 ng 5\, Heidelberg\, 69124\, Deutschland
X-APPLE-STRUCTURED-LOCATION;VALUE=URI;X-ADDRESS=Carl-Friedrich-Gauß-Ring 5
 \, Heidelberg\, 69124\, Deutschland;X-APPLE-RADIUS=100;X-TITLE=Heidelberg 
 - Business Development Center:geo:0,0
END:VEVENT
BEGIN:VTIMEZONE
TZID:Europe/Berlin
X-LIC-LOCATION:Europe/Berlin
BEGIN:DAYLIGHT
DTSTART:20240331T030000
TZOFFSETFROM:+0100
TZOFFSETTO:+0200
TZNAME:CEST
END:DAYLIGHT
END:VTIMEZONE
END:VCALENDAR